BEGIN:VCALENDAR
VERSION:2.0
PRODID:-//MMS Events - ECPv6.15.18//NONSGML v1.0//EN
CALSCALE:GREGORIAN
METHOD:PUBLISH
X-WR-CALNAME:MMS Events
X-ORIGINAL-URL:https://events.mms.coop
X-WR-CALDESC:Events for MMS Events
REFRESH-INTERVAL;VALUE=DURATION:PT1H
X-Robots-Tag:noindex
X-PUBLISHED-TTL:PT1H
BEGIN:VTIMEZONE
TZID:America/Chicago
BEGIN:DAYLIGHT
TZOFFSETFROM:-0600
TZOFFSETTO:-0500
TZNAME:CDT
DTSTART:20250309T080000
END:DAYLIGHT
BEGIN:STANDARD
TZOFFSETFROM:-0500
TZOFFSETTO:-0600
TZNAME:CST
DTSTART:20251102T070000
END:STANDARD
BEGIN:DAYLIGHT
TZOFFSETFROM:-0600
TZOFFSETTO:-0500
TZNAME:CDT
DTSTART:20260308T080000
END:DAYLIGHT
BEGIN:STANDARD
TZOFFSETFROM:-0500
TZOFFSETTO:-0600
TZNAME:CST
DTSTART:20261101T070000
END:STANDARD
BEGIN:DAYLIGHT
TZOFFSETFROM:-0600
TZOFFSETTO:-0500
TZNAME:CDT
DTSTART:20270314T080000
END:DAYLIGHT
BEGIN:STANDARD
TZOFFSETFROM:-0500
TZOFFSETTO:-0600
TZNAME:CST
DTSTART:20271107T070000
END:STANDARD
END:VTIMEZONE
BEGIN:VEVENT
DTSTART;TZID=America/Chicago:20260311T090000
DTEND;TZID=America/Chicago:20260312T170000
DTSTAMP:20260420T032843
CREATED:20251023T205654Z
LAST-MODIFIED:20251023T205654Z
UID:10000134-1773219600-1773334800@events.mms.coop
SUMMARY:MLO Training
DESCRIPTION:
URL:https://events.mms.coop/event/mlo-training-13/
LOCATION:Members Mortgage Services\, Hutchinson\, KS\, 200 E. 1st Ave\, Hutchinson\, KS\, 67501
CATEGORIES:In Person Training
ATTACH;FMTTYPE=image/jpeg:https://events.mms.coop/wp-content/uploads/2023/03/MLO-Training-Event.jpg
END:VEVENT
BEGIN:VEVENT
DTSTART;TZID=America/Chicago:20260317T083000
DTEND;TZID=America/Chicago:20260317T100000
DTSTAMP:20260420T032843
CREATED:20251023T212042Z
LAST-MODIFIED:20251023T212042Z
UID:10000154-1773736200-1773741600@events.mms.coop
SUMMARY:TPO Connect Training
DESCRIPTION:
URL:https://events.mms.coop/event/tpo-connect-training-13/
LOCATION:KS
CATEGORIES:Virtual Training
ATTACH;FMTTYPE=image/jpeg:https://events.mms.coop/wp-content/uploads/2023/03/TPO-Connect-Training-Event.jpg
END:VEVENT
BEGIN:VEVENT
DTSTART;TZID=America/Chicago:20260318T090000
DTEND;TZID=America/Chicago:20260318T110000
DTSTAMP:20260420T032843
CREATED:20251023T212011Z
LAST-MODIFIED:20251023T212011Z
UID:10000153-1773824400-1773831600@events.mms.coop
SUMMARY:Gov't Broker Training
DESCRIPTION:
URL:https://events.mms.coop/event/govt-broker-training-13/
LOCATION:KS
CATEGORIES:Virtual Training
ATTACH;FMTTYPE=image/jpeg:https://events.mms.coop/wp-content/uploads/2023/03/Government-Broker-Training-Event.jpg
END:VEVENT
END:VCALENDAR