BEGIN:VCALENDAR
VERSION:2.0
PRODID:-//MMS Events - ECPv6.15.18//NONSGML v1.0//EN
CALSCALE:GREGORIAN
METHOD:PUBLISH
X-ORIGINAL-URL:https://events.mms.coop
X-WR-CALDESC:Events for MMS Events
REFRESH-INTERVAL;VALUE=DURATION:PT1H
X-Robots-Tag:noindex
X-PUBLISHED-TTL:PT1H
BEGIN:VTIMEZONE
TZID:America/Chicago
BEGIN:DAYLIGHT
TZOFFSETFROM:-0600
TZOFFSETTO:-0500
TZNAME:CDT
DTSTART:20230312T080000
END:DAYLIGHT
BEGIN:STANDARD
TZOFFSETFROM:-0500
TZOFFSETTO:-0600
TZNAME:CST
DTSTART:20231105T070000
END:STANDARD
BEGIN:DAYLIGHT
TZOFFSETFROM:-0600
TZOFFSETTO:-0500
TZNAME:CDT
DTSTART:20240310T080000
END:DAYLIGHT
BEGIN:STANDARD
TZOFFSETFROM:-0500
TZOFFSETTO:-0600
TZNAME:CST
DTSTART:20241103T070000
END:STANDARD
BEGIN:DAYLIGHT
TZOFFSETFROM:-0600
TZOFFSETTO:-0500
TZNAME:CDT
DTSTART:20250309T080000
END:DAYLIGHT
BEGIN:STANDARD
TZOFFSETFROM:-0500
TZOFFSETTO:-0600
TZNAME:CST
DTSTART:20251102T070000
END:STANDARD
END:VTIMEZONE
BEGIN:VEVENT
DTSTART;TZID=America/Chicago:20241009T090000
DTEND;TZID=America/Chicago:20241009T110000
DTSTAMP:20260423T200522
CREATED:20231017T193312Z
LAST-MODIFIED:20240808T162915Z
UID:10000064-1728464400-1728471600@events.mms.coop
SUMMARY:Gov't Broker Training
DESCRIPTION:
URL:https://events.mms.coop/event/govt-broker-training-5/
LOCATION:KS
CATEGORIES:Virtual Training
ATTACH;FMTTYPE=image/jpeg:https://events.mms.coop/wp-content/uploads/2023/03/Government-Broker-Training-Event.jpg
END:VEVENT
BEGIN:VEVENT
DTSTART;TZID=America/Chicago:20241010T083000
DTEND;TZID=America/Chicago:20241010T100000
DTSTAMP:20260423T200522
CREATED:20231017T202626Z
LAST-MODIFIED:20240808T162939Z
UID:10000070-1728549000-1728554400@events.mms.coop
SUMMARY:TPO Connect Training
DESCRIPTION:
URL:https://events.mms.coop/event/tpo-connect-training-9/
LOCATION:KS
CATEGORIES:Virtual Training
ATTACH;FMTTYPE=image/jpeg:https://events.mms.coop/wp-content/uploads/2023/03/TPO-Connect-Training-Event.jpg
END:VEVENT
BEGIN:VEVENT
DTSTART;TZID=America/Chicago:20241021T090000
DTEND;TZID=America/Chicago:20241021T170000
DTSTAMP:20260423T200522
CREATED:20240206T184121Z
LAST-MODIFIED:20240206T184222Z
UID:10000095-1729501200-1729530000@events.mms.coop
SUMMARY:MLO Training
DESCRIPTION:
URL:https://events.mms.coop/event/mlo-training-3/
LOCATION:Members Mortgage Services\, Hutchinson\, KS\, 200 E. 1st Ave\, Hutchinson\, KS\, 67501
CATEGORIES:In Person Training
ATTACH;FMTTYPE=image/jpeg:https://events.mms.coop/wp-content/uploads/2023/03/MLO-Training-Event.jpg
END:VEVENT
BEGIN:VEVENT
DTSTART;TZID=America/Chicago:20241023T090000
DTEND;TZID=America/Chicago:20241023T170000
DTSTAMP:20260423T200522
CREATED:20240206T182624Z
LAST-MODIFIED:20240206T182805Z
UID:10000093-1729674000-1729702800@events.mms.coop
SUMMARY:Processor Training
DESCRIPTION:
URL:https://events.mms.coop/event/processor-training-11/
LOCATION:Members Mortgage Services\, Hutchinson\, KS\, 200 E. 1st Ave\, Hutchinson\, KS\, 67501
CATEGORIES:In Person Training
ATTACH;FMTTYPE=image/jpeg:https://events.mms.coop/wp-content/uploads/2023/03/Processor-Training-Event.jpg
END:VEVENT
BEGIN:VEVENT
DTSTART;TZID=America/Chicago:20241024T090000
DTEND;TZID=America/Chicago:20241024T170000
DTSTAMP:20260423T200522
CREATED:20240206T175415Z
LAST-MODIFIED:20240206T180138Z
UID:10000092-1729760400-1729789200@events.mms.coop
SUMMARY:Closer Training
DESCRIPTION:
URL:https://events.mms.coop/event/closer-training-5/
LOCATION:Members Mortgage Services\, Hutchinson\, KS\, 200 E. 1st Ave\, Hutchinson\, KS\, 67501
CATEGORIES:In Person Training
ATTACH;FMTTYPE=image/jpeg:https://events.mms.coop/wp-content/uploads/2023/03/Closer-Training-Event.jpg
END:VEVENT
END:VCALENDAR