BEGIN:VCALENDAR
VERSION:2.0
PRODID:-//MMS Events - ECPv6.15.18//NONSGML v1.0//EN
CALSCALE:GREGORIAN
METHOD:PUBLISH
X-WR-CALNAME:MMS Events
X-ORIGINAL-URL:https://events.mms.coop
X-WR-CALDESC:Events for MMS Events
REFRESH-INTERVAL;VALUE=DURATION:PT1H
X-Robots-Tag:noindex
X-PUBLISHED-TTL:PT1H
BEGIN:VTIMEZONE
TZID:America/Chicago
BEGIN:DAYLIGHT
TZOFFSETFROM:-0600
TZOFFSETTO:-0500
TZNAME:CDT
DTSTART:20250309T080000
END:DAYLIGHT
BEGIN:STANDARD
TZOFFSETFROM:-0500
TZOFFSETTO:-0600
TZNAME:CST
DTSTART:20251102T070000
END:STANDARD
BEGIN:DAYLIGHT
TZOFFSETFROM:-0600
TZOFFSETTO:-0500
TZNAME:CDT
DTSTART:20260308T080000
END:DAYLIGHT
BEGIN:STANDARD
TZOFFSETFROM:-0500
TZOFFSETTO:-0600
TZNAME:CST
DTSTART:20261101T070000
END:STANDARD
BEGIN:DAYLIGHT
TZOFFSETFROM:-0600
TZOFFSETTO:-0500
TZNAME:CDT
DTSTART:20270314T080000
END:DAYLIGHT
BEGIN:STANDARD
TZOFFSETFROM:-0500
TZOFFSETTO:-0600
TZNAME:CST
DTSTART:20271107T070000
END:STANDARD
END:VTIMEZONE
BEGIN:VEVENT
DTSTART;TZID=America/Chicago:20261019T090000
DTEND;TZID=America/Chicago:20261020T170000
DTSTAMP:20260422T194654
CREATED:20251023T205938Z
LAST-MODIFIED:20251023T205938Z
UID:10000137-1792400400-1792515600@events.mms.coop
SUMMARY:MLO Training
DESCRIPTION:
URL:https://events.mms.coop/event/mlo-training-16/
LOCATION:Members Mortgage Services\, Hutchinson\, KS\, 200 E. 1st Ave\, Hutchinson\, KS\, 67501
CATEGORIES:In Person Training
ATTACH;FMTTYPE=image/jpeg:https://events.mms.coop/wp-content/uploads/2023/03/MLO-Training-Event.jpg
END:VEVENT
BEGIN:VEVENT
DTSTART;TZID=America/Chicago:20261021T090000
DTEND;TZID=America/Chicago:20261021T170000
DTSTAMP:20260422T194654
CREATED:20251023T210551Z
LAST-MODIFIED:20251023T210551Z
UID:10000149-1792573200-1792602000@events.mms.coop
SUMMARY:Processor Training
DESCRIPTION:
URL:https://events.mms.coop/event/processor-training-15/
LOCATION:Members Mortgage Services\, Hutchinson\, KS\, 200 E. 1st Ave\, Hutchinson\, KS\, 67501
CATEGORIES:In Person Training
ATTACH;FMTTYPE=image/jpeg:https://events.mms.coop/wp-content/uploads/2023/03/Processor-Training-Event.jpg
END:VEVENT
BEGIN:VEVENT
DTSTART;TZID=America/Chicago:20261022T090000
DTEND;TZID=America/Chicago:20261022T170000
DTSTAMP:20260422T194654
CREATED:20251023T210256Z
LAST-MODIFIED:20251023T210256Z
UID:10000143-1792659600-1792688400@events.mms.coop
SUMMARY:Closer Training
DESCRIPTION:
URL:https://events.mms.coop/event/closer-training-14/
LOCATION:Members Mortgage Services\, Hutchinson\, KS\, 200 E. 1st Ave\, Hutchinson\, KS\, 67501
CATEGORIES:In Person Training
ATTACH;FMTTYPE=image/jpeg:https://events.mms.coop/wp-content/uploads/2023/03/Closer-Training-Event.jpg
END:VEVENT
END:VCALENDAR