BEGIN:VCALENDAR
VERSION:2.0
PRODID:-//MMS Events - ECPv6.15.18//NONSGML v1.0//EN
CALSCALE:GREGORIAN
METHOD:PUBLISH
X-WR-CALNAME:MMS Events
X-ORIGINAL-URL:https://events.mms.coop
X-WR-CALDESC:Events for MMS Events
REFRESH-INTERVAL;VALUE=DURATION:PT1H
X-Robots-Tag:noindex
X-PUBLISHED-TTL:PT1H
BEGIN:VTIMEZONE
TZID:America/Chicago
BEGIN:DAYLIGHT
TZOFFSETFROM:-0600
TZOFFSETTO:-0500
TZNAME:CDT
DTSTART:20240310T080000
END:DAYLIGHT
BEGIN:STANDARD
TZOFFSETFROM:-0500
TZOFFSETTO:-0600
TZNAME:CST
DTSTART:20241103T070000
END:STANDARD
BEGIN:DAYLIGHT
TZOFFSETFROM:-0600
TZOFFSETTO:-0500
TZNAME:CDT
DTSTART:20250309T080000
END:DAYLIGHT
BEGIN:STANDARD
TZOFFSETFROM:-0500
TZOFFSETTO:-0600
TZNAME:CST
DTSTART:20251102T070000
END:STANDARD
BEGIN:DAYLIGHT
TZOFFSETFROM:-0600
TZOFFSETTO:-0500
TZNAME:CDT
DTSTART:20260308T080000
END:DAYLIGHT
BEGIN:STANDARD
TZOFFSETFROM:-0500
TZOFFSETTO:-0600
TZNAME:CST
DTSTART:20261101T070000
END:STANDARD
END:VTIMEZONE
BEGIN:VEVENT
DTSTART;TZID=America/Chicago:20250818T090000
DTEND;TZID=America/Chicago:20250819T170000
DTSTAMP:20260423T014107
CREATED:20241119T222217Z
LAST-MODIFIED:20241119T222217Z
UID:10000116-1755507600-1755622800@events.mms.coop
SUMMARY:MLO Training
DESCRIPTION:
URL:https://events.mms.coop/event/mlo-training-8/
LOCATION:Members Mortgage Services\, Hutchinson\, KS\, 200 E. 1st Ave\, Hutchinson\, KS\, 67501
CATEGORIES:In Person Training
ATTACH;FMTTYPE=image/jpeg:https://events.mms.coop/wp-content/uploads/2023/03/MLO-Training-Event.jpg
END:VEVENT
BEGIN:VEVENT
DTSTART;TZID=America/Chicago:20250820T090000
DTEND;TZID=America/Chicago:20250820T170000
DTSTAMP:20260423T014107
CREATED:20241119T222446Z
LAST-MODIFIED:20241119T222446Z
UID:10000122-1755680400-1755709200@events.mms.coop
SUMMARY:Processor Training
DESCRIPTION:
URL:https://events.mms.coop/event/processor-training-5/
LOCATION:Members Mortgage Services\, Hutchinson\, KS\, 200 E. 1st Ave\, Hutchinson\, KS\, 67501
CATEGORIES:In Person Training
ATTACH;FMTTYPE=image/jpeg:https://events.mms.coop/wp-content/uploads/2023/03/Processor-Training-Event.jpg
END:VEVENT
BEGIN:VEVENT
DTSTART;TZID=America/Chicago:20250821T090000
DTEND;TZID=America/Chicago:20250821T170000
DTSTAMP:20260423T014107
CREATED:20241119T222718Z
LAST-MODIFIED:20241119T222718Z
UID:10000128-1755766800-1755795600@events.mms.coop
SUMMARY:Closer Training
DESCRIPTION:
URL:https://events.mms.coop/event/closer-training-6/
LOCATION:Members Mortgage Services\, Hutchinson\, KS\, 200 E. 1st Ave\, Hutchinson\, KS\, 67501
CATEGORIES:In Person Training
ATTACH;FMTTYPE=image/jpeg:https://events.mms.coop/wp-content/uploads/2023/03/Closer-Training-Event.jpg
END:VEVENT
END:VCALENDAR